BEGIN:VCALENDAR
PRODID:-//eluceo/ical//2.0/EN
VERSION:2.0
CALSCALE:GREGORIAN
BEGIN:VEVENT
UID:761e3c0fb1f4c8611adac8e0f843a2c1
DTSTAMP:20260422T070101Z
SUMMARY:"Auf zum neuen Lebensabschnitt" von Stephan Gerosa / Club-Aufnahme 
 Marco Gonçalves
DESCRIPTION:Webbplats: http://www.landgasthof-hard.ch\nTalare: Rot. Stephan
  Gerosa
URL:https://rotary-sissach.ch/sv/agenda/show/157980
DTSTART;TZID=Europe/Zurich:20230427T121500
DTEND;TZID=Europe/Zurich:20230427T133000
LOCATION:Landgasthof Hard\, Alte Landstrasse 8\, 4455 Zunzgen\, Schweiz
CATEGORIES:Rotary
END:VEVENT
BEGIN:VTIMEZONE
TZID:Europe/Zurich
BEGIN:DAYLIGHT
DTSTART:20230427T121500
TZNAME:CEST
TZOFFSETTO:+0200
TZOFFSETFROM:+0200
END:DAYLIGHT
END:VTIMEZONE
END:VCALENDAR
