BEGIN:VCALENDAR
PRODID:-//eluceo/ical//2.0/EN
VERSION:2.0
CALSCALE:GREGORIAN
BEGIN:VEVENT
UID:3185da843720421927c1d91b95a98d72
DTSTAMP:20260422T065820Z
SUMMARY:Nicole de Venere\, House of Happiness
DESCRIPTION:Webbplats: http://www.landgasthof-hard.ch\nTalare: Nicole de Ve
 nere
URL:https://rotary-sissach.ch/sv/agenda/show/159214
DTSTART;TZID=Europe/Zurich:20230511T121500
DTEND;TZID=Europe/Zurich:20230511T133000
LOCATION:Landgasthof Hard\, Alte Landstrasse 8\, 4455 Zunzgen\, Schweiz
CATEGORIES:Rotary
END:VEVENT
BEGIN:VTIMEZONE
TZID:Europe/Zurich
BEGIN:DAYLIGHT
DTSTART:20230511T121500
TZNAME:CEST
TZOFFSETTO:+0200
TZOFFSETFROM:+0200
END:DAYLIGHT
END:VTIMEZONE
END:VCALENDAR
