BEGIN:VCALENDAR
PRODID:-//eluceo/ical//2.0/EN
VERSION:2.0
CALSCALE:GREGORIAN
BEGIN:VEVENT
UID:cd98e25562d37f57fca7a01984037bce
DTSTAMP:20260419T115727Z
SUMMARY:Rotary Lunch - "Sport verbindet Menschen aller Alterskategorien"
DESCRIPTION:\n \nMeny: \n \nTalare: Thomas Beugger\, Leiter Sportamt Base
 l-Landschaft
URL:https://rotary-sissach.ch/sv/agenda/show/45384
DTSTART;TZID=Europe/Zurich:20141030T121500
DTEND;TZID=Europe/Zurich:20141030T121500
LOCATION:Landgasthof Hard
CATEGORIES:Rotary
END:VEVENT
BEGIN:VTIMEZONE
TZID:Europe/Zurich
BEGIN:STANDARD
DTSTART:20141030T121500
TZNAME:CET
TZOFFSETTO:+0100
TZOFFSETFROM:+0100
END:STANDARD
END:VTIMEZONE
END:VCALENDAR
