BEGIN:VCALENDAR
PRODID:-//eluceo/ical//2.0/EN
VERSION:2.0
CALSCALE:GREGORIAN
BEGIN:VEVENT
UID:923b05d42e5aa40666eb4e587732f3a0
DTSTAMP:20260425T130919Z
SUMMARY:Präsenzapéro
DESCRIPTION:\n \nMeny: \n 
URL:https://rotary-sissach.ch/sv/agenda/show/45435
DTSTART;TZID=Europe/Zurich:20141117T181500
DTEND;TZID=Europe/Zurich:20141117T181500
LOCATION:Café Caprice
CATEGORIES:Rotary
END:VEVENT
BEGIN:VTIMEZONE
TZID:Europe/Zurich
BEGIN:STANDARD
DTSTART:20141117T181500
TZNAME:CET
TZOFFSETTO:+0100
TZOFFSETFROM:+0100
END:STANDARD
END:VTIMEZONE
END:VCALENDAR
