BEGIN:VCALENDAR
PRODID:-//eluceo/ical//2.0/EN
VERSION:2.0
CALSCALE:GREGORIAN
BEGIN:VEVENT
UID:43263f5cff8477f42546efa5ca9832b1
DTSTAMP:20260419T153404Z
SUMMARY:aus gegebenem Anlass\, kein Anlass !
DESCRIPTION:\n \nMeny: \n \nWebbplats: http://de.wikipedia.org/wiki/Weihn
 achten
URL:https://rotary-sissach.ch/sv/agenda/show/45447
DTSTART;TZID=Europe/Zurich:20141225T000000
DTEND;TZID=Europe/Zurich:20141225T000000
LOCATION:-
CATEGORIES:Rotary
END:VEVENT
BEGIN:VTIMEZONE
TZID:Europe/Zurich
BEGIN:STANDARD
DTSTART:20141225T000000
TZNAME:CET
TZOFFSETTO:+0100
TZOFFSETFROM:+0100
END:STANDARD
END:VTIMEZONE
END:VCALENDAR
