BEGIN:VCALENDAR
PRODID:-//eluceo/ical//2.0/EN
VERSION:2.0
CALSCALE:GREGORIAN
BEGIN:VEVENT
UID:4640d3cccb08252ed175ccc6cc819dae
DTSTAMP:20260419T230346Z
SUMMARY:Kontakapéro
DESCRIPTION:
URL:https://rotary-sissach.ch/sv/agenda/show/47657
DTSTART;TZID=Europe/Zurich:20150114T180000
DTEND;TZID=Europe/Zurich:20150114T180000
LOCATION:Hilton Basel
CATEGORIES:Rotary
END:VEVENT
BEGIN:VTIMEZONE
TZID:Europe/Zurich
BEGIN:STANDARD
DTSTART:20150114T180000
TZNAME:CET
TZOFFSETTO:+0100
TZOFFSETFROM:+0100
END:STANDARD
END:VTIMEZONE
END:VCALENDAR
