BEGIN:VCALENDAR
PRODID:-//eluceo/ical//2.0/EN
VERSION:2.0
CALSCALE:GREGORIAN
BEGIN:VEVENT
UID:5368aa3baa0748edf23c5df895d6c783
DTSTAMP:20260419T191237Z
SUMMARY:Fondueplausch
DESCRIPTION:
URL:https://rotary-sissach.ch/sv/agenda/show/58537
DTSTART;TZID=Europe/Zurich:20150107T180000
DTEND;TZID=Europe/Zurich:20150107T180000
LOCATION:Sissach
CATEGORIES:Rotary
END:VEVENT
BEGIN:VTIMEZONE
TZID:Europe/Zurich
BEGIN:STANDARD
DTSTART:20150107T180000
TZNAME:CET
TZOFFSETTO:+0100
TZOFFSETFROM:+0100
END:STANDARD
END:VTIMEZONE
END:VCALENDAR
